BEGIN:VCALENDAR
VERSION:2.0
PRODID:-//GFBF - ECPv6.6.0.2//NONSGML v1.0//EN
CALSCALE:GREGORIAN
METHOD:PUBLISH
X-ORIGINAL-URL:https://gfbf.org
X-WR-CALDESC:Events for GFBF
REFRESH-INTERVAL;VALUE=DURATION:PT1H
X-Robots-Tag:noindex
X-PUBLISHED-TTL:PT1H
BEGIN:VTIMEZONE
TZID:UTC
BEGIN:STANDARD
TZOFFSETFROM:+0000
TZOFFSETTO:+0000
TZNAME:UTC
DTSTART:20230101T000000
END:STANDARD
END:VTIMEZONE
BEGIN:VEVENT
DTSTART;TZID=UTC:20230922T150000
DTEND;TZID=UTC:20230924T150000
DTSTAMP:20260423T232546
CREATED:20230109T193151Z
LAST-MODIFIED:20230109T200605Z
UID:7243-1695394800-1695567600@gfbf.org
SUMMARY:Fall Burn Survivor Family Weekend
DESCRIPTION:The GFBF recognizes the roots of trauma from a burn injury\, whether an adult or child\, reach far beneath the surface of the individual experiencing the physical injury. This weekend provides a unique opportunity for families to connect with others who share common experiences associated with burn trauma (both burn injured and non-burn injured) and acknowledges the voice of those who may not have experienced the physical burn injury but are closely connected to the trauma.
URL:https://gfbf.org/event/fall-burn-survivors-family-weekend/
LOCATION:Camp Twin Lakes Will-A-Way\, 210 South Broad Street #5\, Winder\, Georgia\, 30680\, United States
CATEGORIES:Burn Survivor Program
ATTACH;FMTTYPE=image/png:https://gfbf.org/wp-content/uploads/2023/01/Pastel-Minimalist-Hello-Autumn-Instagram-Post.png
END:VEVENT
END:VCALENDAR