BEGIN:VCALENDAR
VERSION:2.0
PRODID:-//GFBF - ECPv6.6.0.2//NONSGML v1.0//EN
CALSCALE:GREGORIAN
METHOD:PUBLISH
X-WR-CALNAME:GFBF
X-ORIGINAL-URL:https://gfbf.org
X-WR-CALDESC:Events for GFBF
REFRESH-INTERVAL;VALUE=DURATION:PT1H
X-Robots-Tag:noindex
X-PUBLISHED-TTL:PT1H
BEGIN:VTIMEZONE
TZID:UTC
BEGIN:STANDARD
TZOFFSETFROM:+0000
TZOFFSETTO:+0000
TZNAME:UTC
DTSTART:20230101T000000
END:STANDARD
END:VTIMEZONE
BEGIN:VEVENT
DTSTART;TZID=UTC:20231103T100000
DTEND;TZID=UTC:20231103T170000
DTSTAMP:20260423T170626
CREATED:20231016T153310Z
LAST-MODIFIED:20231019T144058Z
UID:7426-1699005600-1699030800@gfbf.org
SUMMARY:Uncle D's Christmas Charity Golf Tournament
DESCRIPTION:Join us for a golf tournament benefiting GFBF\, MUST Ministries\, Calvary Children’s Home\, and Uncle D’s Christmas Fund on Friday\, November 3! There will be mulligans\, putting contest with 50/50 payout\, and more!  \n\n\n\nSingle Player – $125 | Foursome – $440 \n\n\n\nSponsorship opportunities available!  \n\n\n\nContact Tommy Sipsy for registration and sponsorship.
URL:https://gfbf.org/event/uncle-ds-christmas-charity-golf-tournament/
LOCATION:City Club\, 510 Powder Springs St SE\, Marietta\, Georgia\, 30064\, United States
ORGANIZER;CN="Tommy Sipsy":MAILTO:tsipsy@ymail.com
END:VEVENT
END:VCALENDAR