BEGIN:VCALENDAR
VERSION:2.0
PRODID:-//GFBF - ECPv6.6.0.2//NONSGML v1.0//EN
CALSCALE:GREGORIAN
METHOD:PUBLISH
X-WR-CALNAME:GFBF
X-ORIGINAL-URL:https://gfbf.org
X-WR-CALDESC:Events for GFBF
REFRESH-INTERVAL;VALUE=DURATION:PT1H
X-Robots-Tag:noindex
X-PUBLISHED-TTL:PT1H
BEGIN:VTIMEZONE
TZID:UTC
BEGIN:STANDARD
TZOFFSETFROM:+0000
TZOFFSETTO:+0000
TZNAME:UTC
DTSTART:20250101T000000
END:STANDARD
END:VTIMEZONE
BEGIN:VEVENT
DTSTART;TZID=UTC:20250204T110000
DTEND;TZID=UTC:20250204T130000
DTSTAMP:20260420T074432
CREATED:20250107T155011Z
LAST-MODIFIED:20250107T155026Z
UID:7632-1738666800-1738674000@gfbf.org
SUMMARY:Annual Firefighters Recognition Luncheon
DESCRIPTION:Save the date\, more details coming soon!
URL:https://gfbf.org/event/annual-firefighters-recognition-luncheon/
LOCATION:Georgia State University Ballroom\, Georgia State University\, 33 GIlmer Street\, Atlanta\, GA\, 30302\, United States
ORGANIZER;CN="Venessa Walker":MAILTO:vwalker@gfbf.org
END:VEVENT
END:VCALENDAR