BEGIN:VCALENDAR
VERSION:2.0
PRODID:-//GFBF - ECPv6.6.0.2//NONSGML v1.0//EN
CALSCALE:GREGORIAN
METHOD:PUBLISH
X-WR-CALNAME:GFBF
X-ORIGINAL-URL:https://gfbf.org
X-WR-CALDESC:Events for GFBF
REFRESH-INTERVAL;VALUE=DURATION:PT1H
X-Robots-Tag:noindex
X-PUBLISHED-TTL:PT1H
BEGIN:VTIMEZONE
TZID:UTC
BEGIN:STANDARD
TZOFFSETFROM:+0000
TZOFFSETTO:+0000
TZNAME:UTC
DTSTART:20230101T000000
END:STANDARD
END:VTIMEZONE
BEGIN:VEVENT
DTSTART;TZID=UTC:20230909T080000
DTEND;TZID=UTC:20230909T140000
DTSTAMP:20260421T034128
CREATED:20230816T190825Z
LAST-MODIFIED:20230816T190907Z
UID:7401-1694246400-1694268000@gfbf.org
SUMMARY:Cartersville 9/11 Run to Remember 5K
DESCRIPTION:Please plan to join us for the 3rd. Annual running of the “9/11 Run to Remember 5K” held in remembrance of the 22nd. Anniversary of the events and tragedy of 9/11.  Held Saturday morning\, September 9th\, 2023 in Downtown Cartersville\, GA the “9/11 Run to Remember” 5K represents a celebration of the herculean efforts of all of the first responders from that unforgettable day 22 years ago.  Produced in conjunction with the Cartersville Fire Department\, The Cartersville Police Department\, and Metro Atlanta EMS\, plan to come out and join us for a unique race in celebration of the lives of those that gave so much and enjoy the pre-race presentation of the colors by the Cartersville Fire Department Honor Guard in honor and memory of the events from that fateful morning.  Proceeds from the race go to benefit the Georgia Firefighters Burn Foundation ( https://www.gfbf.org ) and Next Rung (https:www.nextrung.org ) \n\n\n\nThis is a race route NW GA Runners have come to love!  As the turnaround destination of the 5K route is the Cartersville Fire Department Station #1 where runners pass THROUGH a Fire Truck bay in Station #1 where they will be greeted by cheering Firefighters and other First Responders while grabbing water for the return trip to the finish line! 
URL:https://gfbf.org/event/cartersville-9-11-run-to-remember-5k/
LOCATION:Downtown Cartersville\, 10 North Public Square\, Cartersville\, Georgia\, 30120\, United States
CATEGORIES:Give Burns The Boot
END:VEVENT
END:VCALENDAR