BEGIN:VCALENDAR
VERSION:2.0
PRODID:-//GFBF - ECPv6.6.0.2//NONSGML v1.0//EN
CALSCALE:GREGORIAN
METHOD:PUBLISH
X-WR-CALNAME:GFBF
X-ORIGINAL-URL:https://gfbf.org
X-WR-CALDESC:Events for GFBF
REFRESH-INTERVAL;VALUE=DURATION:PT1H
X-Robots-Tag:noindex
X-PUBLISHED-TTL:PT1H
BEGIN:VTIMEZONE
TZID:UTC
BEGIN:STANDARD
TZOFFSETFROM:+0000
TZOFFSETTO:+0000
TZNAME:UTC
DTSTART:20230101T000000
END:STANDARD
END:VTIMEZONE
BEGIN:VEVENT
DTSTART;TZID=UTC:20231020T080000
DTEND;TZID=UTC:20231020T170000
DTSTAMP:20260420T205252
CREATED:20230831T154202Z
LAST-MODIFIED:20230831T155635Z
UID:7413-1697788800-1697821200@gfbf.org
SUMMARY:Baldwin County Fire Rescue 12th Annual Golf Tournament
DESCRIPTION:Join Baldwin County Fire Rescue for a fantastic day of golfing and supporting the Georgia Firefighters Burn Foundation! Tournament includes 18 holes of golf\, cart and green fees\, gift bags\, breakfast/lunch and drinks\, raffles and prizes!  \n\n\n\nEntry fees: $60 per player or $240 per team | $75 per player or $300 per team includes 2 mulligans and 1 red bomber \n\n\n\nSponsorship opportunities available!
URL:https://gfbf.org/event/baldwin-county-fire-rescue-12th-annual-golf-tournament/
LOCATION:Little Fishing Creek\, 65 Highway 22 West\, Milledgeville\, Georgia\, 31061\, United States
CATEGORIES:Give Burns The Boot
ATTACH;FMTTYPE=image/png:https://gfbf.org/wp-content/uploads/2023/08/baldwin-county-fire-rescue.png
END:VEVENT
END:VCALENDAR